BEGIN:VCALENDAR
VERSION:2.0
PRODID:icalendar-ruby
CALSCALE:GREGORIAN
BEGIN:VEVENT
DTSTAMP:20210122T134910Z
UID:ddd99748-e047-4b38-a119-a32476e4fafd
DTSTART;VALUE=DATE:20210211
DESCRIPTION:Property ID# 500234\, Locatoin: Auction Rooms\, 247 Cameron Roa
 d\, Tauranga. Unless sold prior\, Time: 1:00PM
SUMMARY:Auction for 167 Kings Ave
END:VEVENT
END:VCALENDAR
