BEGIN:VCALENDAR
VERSION:2.0
PRODID:icalendar-ruby
CALSCALE:GREGORIAN
BEGIN:VEVENT
DTSTAMP:20210122T135001Z
UID:d43bc925-8b7d-46c7-9520-452816cf4e02
DTSTART;VALUE=DATE:20210217
DESCRIPTION:Property ID# 500225\, Locatoin: Bayleys Auction Rooms\, Ground 
 Floor\, 247 Cameron Road\, Tauranga\, Time: 1:00PM
SUMMARY:Auction for 682A Oropi Road
END:VEVENT
END:VCALENDAR
