BEGIN:VCALENDAR
VERSION:2.0
PRODID:icalendar-ruby
CALSCALE:GREGORIAN
BEGIN:VEVENT
DTSTAMP:20210122T134950Z
UID:f63989a4-598d-4d7e-850f-06842954e8ac
DTSTART;VALUE=DATE:20210224
DESCRIPTION:Property ID# 500203\, Locatoin: Ray White Auction Rooms\, 5/9 D
 omain Road\, Papamoa\, Time: 1:00PM
SUMMARY:Auction for 50 Bahamas Key
END:VEVENT
END:VCALENDAR
