BEGIN:VCALENDAR
VERSION:2.0
PRODID:icalendar-ruby
CALSCALE:GREGORIAN
BEGIN:VEVENT
DTSTAMP:20210122T134938Z
UID:1c057e78-2eaa-4f67-9924-1b99e2fe8106
DTSTART;VALUE=DATE:20210304
DESCRIPTION:Property ID# 500075\, Locatoin: Level 1\, 51 The Strand\, Taura
 nga 3110\, Time: 1:00PM
SUMMARY:Auction for 15 Malibu Key
END:VEVENT
END:VCALENDAR
