BEGIN:VCALENDAR
VERSION:2.0
PRODID:icalendar-ruby
CALSCALE:GREGORIAN
BEGIN:VEVENT
DTSTAMP:20210122T135016Z
UID:f06f50f3-5a65-4832-8602-e0286fe2c097
DTSTART;VALUE=DATE:20210211
DESCRIPTION:Property ID# 500030\, Locatoin: Harcourts\, 1 Third Avenue\, Ta
 uranga\, Time: 1:00PM
SUMMARY:Auction for 79 Castlewold Drive
END:VEVENT
END:VCALENDAR
