BEGIN:VCALENDAR
VERSION:2.0
PRODID:icalendar-ruby
CALSCALE:GREGORIAN
BEGIN:VEVENT
DTSTAMP:20210122T134954Z
UID:5dd94cfc-f902-46db-909b-f4d753036c12
DTSTART;VALUE=DATE:20210218
DESCRIPTION:Property ID# 499991\, Locatoin: On Site \, Time: 4:00PM
SUMMARY:Auction for 174 Kaitemako Road
END:VEVENT
END:VCALENDAR
