BEGIN:VCALENDAR
VERSION:2.0
PRODID:icalendar-ruby
CALSCALE:GREGORIAN
BEGIN:VEVENT
DTSTAMP:20210122T135009Z
UID:2dc47564-8675-441c-8c78-f0357193a279
DTSTART;VALUE=DATE:20210218
DESCRIPTION:Property ID# 499967\, Locatoin: Level 1\, 51 The Strand\, Taura
 nga (unless sold prior)\, Time: 12:00PM
SUMMARY:Auction for 1335 No. 3 Road
END:VEVENT
END:VCALENDAR
