BEGIN:VCALENDAR
VERSION:2.0
PRODID:icalendar-ruby
CALSCALE:GREGORIAN
BEGIN:VEVENT
DTSTAMP:20210122T135021Z
UID:6c76f94a-342d-4181-9a9d-16485f3d86b5
DTSTART;VALUE=DATE:20210211
DESCRIPTION:Property ID# 499944\, Time: 1:00PM
SUMMARY:Auction for 64 The Gardens Drive
END:VEVENT
END:VCALENDAR
