BEGIN:VCALENDAR
VERSION:2.0
PRODID:icalendar-ruby
CALSCALE:GREGORIAN
BEGIN:VEVENT
DTSTAMP:20210122T135025Z
UID:7b0d0e6f-024d-463e-b95f-e8fa06db6606
DTSTART;VALUE=DATE:20210211
DESCRIPTION:Property ID# 499911\, Locatoin: Auction rooms\, 247 Cameron Rd\
 , Tauranga \, Time: 1:00PM
SUMMARY:Auction for 208/49 Maunganui Road
END:VEVENT
END:VCALENDAR
