BEGIN:VCALENDAR
VERSION:2.0
PRODID:icalendar-ruby
CALSCALE:GREGORIAN
BEGIN:VEVENT
DTSTAMP:20210122T135013Z
UID:80ab19a5-03bc-4b2d-a9aa-e5e8a218d723
DTSTART;VALUE=DATE:20210218
DESCRIPTION:Property ID# 499910\, Locatoin: Auction rooms\, 247 Cameron Rd\
 , Tauranga \, Time: 1:00PM
SUMMARY:Auction for 84a Gloucester Road
END:VEVENT
END:VCALENDAR
