BEGIN:VCALENDAR
VERSION:2.0
PRODID:icalendar-ruby
CALSCALE:GREGORIAN
BEGIN:VEVENT
DTSTAMP:20210122T134916Z
UID:9ffc6238-b961-480b-b27d-0a62166007c6
DTSTART;VALUE=DATE:20210218
DESCRIPTION:Property ID# 499869\, Locatoin: Auction Rooms\, Eves Realty Lim
 ited\, 247 Cameron Road\, Tauranga\, Time: 12:00PM
SUMMARY:Auction for 65B Sherson Street
END:VEVENT
END:VCALENDAR
