BEGIN:VCALENDAR
VERSION:2.0
PRODID:icalendar-ruby
CALSCALE:GREGORIAN
BEGIN:VEVENT
DTSTAMP:20210122T134932Z
UID:e6b36a4d-1c3d-4000-bb33-a33eba88c034
DTSTART;VALUE=DATE:20210210
DESCRIPTION:Property ID# 499868\, Time: 6:00PM
SUMMARY:Auction for 5 Sandhurst Drive
END:VEVENT
END:VCALENDAR
