BEGIN:VCALENDAR
VERSION:2.0
PRODID:icalendar-ruby
CALSCALE:GREGORIAN
BEGIN:VEVENT
DTSTAMP:20210122T134922Z
UID:121ecc72-4af7-452c-876d-b1787f1261b1
DTSTART;VALUE=DATE:20210218
DESCRIPTION:Property ID# 499803\, Locatoin: In rooms\, Time: 1:00PM
SUMMARY:Auction for 29A Topaz Drive
END:VEVENT
END:VCALENDAR
