BEGIN:VCALENDAR
VERSION:2.0
PRODID:icalendar-ruby
CALSCALE:GREGORIAN
BEGIN:VEVENT
DTSTAMP:20210122T134944Z
UID:c7384c1d-a212-4eb0-9f1c-b12f1fd7d5f3
DTSTART;VALUE=DATE:20210217
DESCRIPTION:Property ID# 499801\, Locatoin: 247 Cameron Road\, Tauranga\, T
 ime: 1:00PM
SUMMARY:Auction for 261a Minden Rd
END:VEVENT
END:VCALENDAR
