BEGIN:VCALENDAR
VERSION:2.0
PRODID:icalendar-ruby
CALSCALE:GREGORIAN
BEGIN:VEVENT
DTSTAMP:20210121T050503Z
UID:327eabe3-8b25-460e-856f-5f32ca0d02c8
DTSTART;VALUE=DATE:20210203
DESCRIPTION:Property ID# 499524\, Locatoin: Ray White Auction Rooms\, 5/9 D
 omain Road\, Papamoa (unless sold prior)\, Time: 1:00PM
SUMMARY:Auction for 
END:VEVENT
END:VCALENDAR
