BEGIN:VCALENDAR
VERSION:2.0
PRODID:icalendar-ruby
CALSCALE:GREGORIAN
BEGIN:VEVENT
DTSTAMP:20210121T045510Z
UID:925a9047-80fc-43dc-9625-fecd3ae7ceb2
DTSTART;VALUE=DATE:20210204
DESCRIPTION:Property ID# 499509\, Locatoin: Auction Rooms\, 247 Cameron Roa
 d\, Tauranga\, Time: 1:00PM
SUMMARY:Auction for 291 Gravatt Road
END:VEVENT
END:VCALENDAR
