BEGIN:VCALENDAR
VERSION:2.0
PRODID:icalendar-ruby
CALSCALE:GREGORIAN
BEGIN:VEVENT
DTSTAMP:20210121T045512Z
UID:eec36a7c-3128-44ff-8def-ee7f5ae38a1a
DTSTART;VALUE=DATE:20210204
DESCRIPTION:Property ID# 499466\, Locatoin: Auction Rooms\, 247 Cameron Roa
 d\, Tauranga\, Time: 1:00PM
SUMMARY:Auction for 23 Putaka Place
END:VEVENT
END:VCALENDAR
