BEGIN:VCALENDAR
VERSION:2.0
PRODID:icalendar-ruby
CALSCALE:GREGORIAN
BEGIN:VEVENT
DTSTAMP:20210121T045533Z
UID:0a15db40-35d7-416a-b0d7-fd3e060399a7
DTSTART;VALUE=DATE:20210225
DESCRIPTION:Property ID# 499036\, Time: 12:00PM
SUMMARY:Auction for 2/85 Forkert Road
END:VEVENT
END:VCALENDAR
