BEGIN:VCALENDAR
VERSION:2.0
PRODID:icalendar-ruby
CALSCALE:GREGORIAN
BEGIN:VEVENT
DTSTAMP:20210121T045535Z
UID:11874328-3bfa-4440-a20a-6a9c12a949ab
DTSTART;VALUE=DATE:20210217
DESCRIPTION:Property ID# 498226\, Time: 4:00PM
SUMMARY:Auction for 69A McCoy Road
END:VEVENT
END:VCALENDAR
