BEGIN:VCALENDAR
VERSION:2.0
PRODID:icalendar-ruby
CALSCALE:GREGORIAN
BEGIN:VEVENT
DTSTAMP:20210121T044803Z
UID:8c038713-0742-4b2a-bd77-fa77437dfb65
DTSTART;VALUE=DATE:20201222
DESCRIPTION:Property ID# 497612\, Time: 1:00PM
SUMMARY:Auction for 
END:VEVENT
END:VCALENDAR
