BEGIN:VCALENDAR
VERSION:2.0
PRODID:icalendar-ruby
CALSCALE:GREGORIAN
BEGIN:VEVENT
DTSTAMP:20210121T045536Z
UID:daa68e6c-aca6-4e01-b65b-eee27721848a
DTSTART;VALUE=DATE:20210218
DESCRIPTION:Property ID# 497489\, Time: 4:00PM
SUMMARY:Auction for 215 Ohiwa Beach Road
END:VEVENT
END:VCALENDAR
