BEGIN:VCALENDAR
VERSION:2.0
PRODID:icalendar-ruby
CALSCALE:GREGORIAN
BEGIN:VEVENT
DTSTAMP:20210121T050032Z
UID:3f58f269-6277-41fe-a4b6-4054d3021e0d
DTSTART;VALUE=DATE:20201223
DESCRIPTION:Property ID# 497420\, Locatoin: Ray White offices\, Time: 1:00P
 M
SUMMARY:Auction for 
END:VEVENT
END:VCALENDAR
