BEGIN:VCALENDAR
VERSION:2.0
PRODID:icalendar-ruby
CALSCALE:GREGORIAN
BEGIN:VEVENT
DTSTAMP:20210121T044756Z
UID:edcc1978-0f8e-4ef4-bd67-fdd86e7b0cc0
DTSTART;VALUE=DATE:20201214
DESCRIPTION:Property ID# 497141\, Time: 4:00PM
SUMMARY:Auction for 8 Mcleod Place 
END:VEVENT
END:VCALENDAR
