BEGIN:VCALENDAR
VERSION:2.0
PRODID:icalendar-ruby
CALSCALE:GREGORIAN
BEGIN:VEVENT
DTSTAMP:20210121T045515Z
UID:15c4fcf1-f8d3-49e0-8b41-88a92508c4ad
DTSTART;VALUE=DATE:20201217
DESCRIPTION:Property ID# 496857\, Locatoin: Auction Rooms\, 247 Cameron Roa
 d\, Tauranga\, Time: 1:00PM
SUMMARY:Auction for 
END:VEVENT
END:VCALENDAR
