BEGIN:VCALENDAR
VERSION:2.0
PRODID:icalendar-ruby
CALSCALE:GREGORIAN
BEGIN:VEVENT
DTSTAMP:20210121T045518Z
UID:a3a69acb-91d8-48be-9755-3c56d8db883c
DTSTART;VALUE=DATE:20201210
DESCRIPTION:Property ID# 496491\, Locatoin: 247 Cameron Road\, Tauranga (Un
 less Sold Prior)\, Time: 1:00PM
SUMMARY:Auction for 
END:VEVENT
END:VCALENDAR
