BEGIN:VCALENDAR
VERSION:2.0
PRODID:icalendar-ruby
CALSCALE:GREGORIAN
BEGIN:VEVENT
DTSTAMP:20210121T045519Z
UID:42e8d0e0-b568-4a4d-b0c1-347967aa5cf8
DTSTART;VALUE=DATE:20201203
DESCRIPTION:Property ID# 495524\, Locatoin: EVES Auction Room: 247 Cameron 
 Road\, Tauranga (unless sold prior)	\, Time: 1:00PM
SUMMARY:Auction for 
END:VEVENT
END:VCALENDAR
