BEGIN:VCALENDAR
VERSION:2.0
PRODID:icalendar-ruby
CALSCALE:GREGORIAN
BEGIN:VEVENT
DTSTAMP:20210121T045537Z
UID:b32d0f1a-3a17-45e8-9c78-10f02759a57c
DTSTART;VALUE=DATE:20201203
DESCRIPTION:Property ID# 495062\, Locatoin: Bayleys Auction Rooms \, Time: 
 4:00PM
SUMMARY:Auction for 144 Campbell Road
END:VEVENT
END:VCALENDAR
