BEGIN:VCALENDAR
VERSION:2.0
PRODID:icalendar-ruby
CALSCALE:GREGORIAN
BEGIN:VEVENT
DTSTAMP:20260424T154204Z
UID:db9a0533-b8e8-4108-b24a-671be4495c3f
DTSTART;VALUE=DATE:20201202
DESCRIPTION:Property ID# 494641\, Locatoin: 247 Cameron Road\, Tauranga\, T
 ime: 1:00PM
SUMMARY:Auction for 
END:VEVENT
END:VCALENDAR
