BEGIN:VCALENDAR
VERSION:2.0
PRODID:icalendar-ruby
CALSCALE:GREGORIAN
BEGIN:VEVENT
DTSTAMP:20210121T045451Z
UID:d0edcaa2-a59e-4cea-a71d-d42774729527
DTSTART;VALUE=DATE:20201209
DESCRIPTION:Property ID# 494399\, Locatoin: 247 Cameron Road\, Tauranga\, T
 ime: 1:00PM
SUMMARY:Auction for 
END:VEVENT
END:VCALENDAR
