BEGIN:VCALENDAR
VERSION:2.0
PRODID:icalendar-ruby
CALSCALE:GREGORIAN
BEGIN:VEVENT
DTSTAMP:20210121T045521Z
UID:b9abb37c-6e64-4812-aa5e-df64ebee660f
DTSTART;VALUE=DATE:20201119
DESCRIPTION:Property ID# 493913\, Locatoin: Auction Rooms\, 247 Cameron Roa
 d\, Tauranga\, Time: 1:00PM
SUMMARY:Auction for 
END:VEVENT
END:VCALENDAR
