BEGIN:VCALENDAR
VERSION:2.0
PRODID:icalendar-ruby
CALSCALE:GREGORIAN
BEGIN:VEVENT
DTSTAMP:20210121T044737Z
UID:30bef365-693c-464f-aa50-ef887571b4ac
DTSTART;VALUE=DATE:20201125
DESCRIPTION:Property ID# 493216\, Locatoin: On Site \, Time: 3:30PM
SUMMARY:Auction for 
END:VEVENT
END:VCALENDAR
