BEGIN:VCALENDAR
VERSION:2.0
PRODID:icalendar-ruby
CALSCALE:GREGORIAN
BEGIN:VEVENT
DTSTAMP:20210122T140449Z
UID:16088198-67b5-44d0-860a-7fd3537050b8
DTSTART;VALUE=DATE:20201111
DESCRIPTION:Property ID# 492683\, Locatoin: 247 Cameron Road\, Tauranga (un
 less sold prior)\, Time: 1:00PM
SUMMARY:Auction for 
END:VEVENT
END:VCALENDAR
