BEGIN:VCALENDAR
VERSION:2.0
PRODID:icalendar-ruby
CALSCALE:GREGORIAN
BEGIN:VEVENT
DTSTAMP:20210121T050511Z
UID:7fd1fc43-e497-44d2-877d-bd3e765935f2
DTSTART;VALUE=DATE:20201118
DESCRIPTION:Property ID# 492606\, Locatoin: Ray White Auction Rooms. 5/ 9 D
 omain Road\, Papamoa.\, Time: 12:00PM
SUMMARY:Auction for 
END:VEVENT
END:VCALENDAR
