BEGIN:VCALENDAR
VERSION:2.0
PRODID:icalendar-ruby
CALSCALE:GREGORIAN
BEGIN:VEVENT
DTSTAMP:20210121T050512Z
UID:4064136e-549b-4f7e-913b-74eaefed63be
DTSTART;VALUE=DATE:20201104
DESCRIPTION:Property ID# 492605\, Locatoin: Ray White Auction Rooms. 5/ 9 D
 omain Road\, Papamoa.\, Time: 1:00PM
SUMMARY:Auction for 
END:VEVENT
END:VCALENDAR
