BEGIN:VCALENDAR
VERSION:2.0
PRODID:icalendar-ruby
CALSCALE:GREGORIAN
BEGIN:VEVENT
DTSTAMP:20210121T045501Z
UID:02b01047-8176-4b53-9c22-0ff9bb86c640
DTSTART;VALUE=DATE:20201126
DESCRIPTION:Property ID# 492273\, Locatoin:  247 Cameron Road\, Tauranga (u
 nless sold prior)	\, Time: 4:00PM
SUMMARY:Auction for 7-13 Te Maire Street
END:VEVENT
END:VCALENDAR
