BEGIN:VCALENDAR
VERSION:2.0
PRODID:icalendar-ruby
CALSCALE:GREGORIAN
BEGIN:VEVENT
DTSTAMP:20210121T045505Z
UID:a179bb97-ca51-4996-b6e4-963e42b38f47
DTSTART;VALUE=DATE:20201120
DESCRIPTION:Property ID# 491951\, Locatoin: 247 Cameron Road\, Tauranga\, T
 ime: 4:00PM
SUMMARY:Auction for 21 Devonport Road
END:VEVENT
END:VCALENDAR
