BEGIN:VCALENDAR
VERSION:2.0
PRODID:icalendar-ruby
CALSCALE:GREGORIAN
BEGIN:VEVENT
DTSTAMP:20260424T134401Z
UID:990ecf26-25f7-4a77-9e48-a471b96d32c3
DTSTART;VALUE=DATE:20201105
DESCRIPTION:Property ID# 491717\, Locatoin: In rooms\, Time: 1:00PM
SUMMARY:Auction for 
END:VEVENT
END:VCALENDAR
