BEGIN:VCALENDAR
VERSION:2.0
PRODID:icalendar-ruby
CALSCALE:GREGORIAN
BEGIN:VEVENT
DTSTAMP:20210122T140454Z
UID:e314ff63-77d5-4d9d-bdc3-9f8d0953fb39
DTSTART;VALUE=DATE:20201028
DESCRIPTION:Property ID# 491512\, Locatoin: 247 Cameron Road\, Tauranga (un
 less sold prior)\, Time: 1:00PM
SUMMARY:Auction for 
END:VEVENT
END:VCALENDAR
