BEGIN:VCALENDAR
VERSION:2.0
PRODID:icalendar-ruby
CALSCALE:GREGORIAN
BEGIN:VEVENT
DTSTAMP:20210121T045524Z
UID:55382174-8b2a-4abf-9ee6-e5b3a3d4fd07
DTSTART;VALUE=DATE:20201015
DESCRIPTION:Property ID# 490924\, Locatoin: Auction Rooms\, 247 Cameron Roa
 d\, Tauranga\, Time: 1:00PM
SUMMARY:Auction for 
END:VEVENT
END:VCALENDAR
