BEGIN:VCALENDAR
VERSION:2.0
PRODID:icalendar-ruby
CALSCALE:GREGORIAN
BEGIN:VEVENT
DTSTAMP:20210122T140457Z
UID:bb337406-52d9-4286-b616-abcf7830ddf7
DTSTART;VALUE=DATE:20201021
DESCRIPTION:Property ID# 490921\, Locatoin: 247 Cameron Road\, Tauranga \, 
 Time: 1:00PM
SUMMARY:Auction for 
END:VEVENT
END:VCALENDAR
