BEGIN:VCALENDAR
VERSION:2.0
PRODID:icalendar-ruby
CALSCALE:GREGORIAN
BEGIN:VEVENT
DTSTAMP:20210122T140459Z
UID:a7df5386-5c34-44f7-8893-54666f304cd9
DTSTART;VALUE=DATE:20201014
DESCRIPTION:Property ID# 490569\, Locatoin: 247 Cameron Road\, Tauranga (un
 less sold prior)\, Time: 1:00PM
SUMMARY:Auction for 
END:VEVENT
END:VCALENDAR
