BEGIN:VCALENDAR
VERSION:2.0
PRODID:icalendar-ruby
CALSCALE:GREGORIAN
BEGIN:VEVENT
DTSTAMP:20210121T044742Z
UID:0b31647d-c6d0-4bf2-81ad-4a4483e1359d
DTSTART;VALUE=DATE:20201009
DESCRIPTION:Property ID# 490542\, Locatoin: On Site \, Time: 5:30PM
SUMMARY:Auction for 
END:VEVENT
END:VCALENDAR
