BEGIN:VCALENDAR
VERSION:2.0
PRODID:icalendar-ruby
CALSCALE:GREGORIAN
BEGIN:VEVENT
DTSTAMP:20210122T140500Z
UID:7a897d71-81b9-4169-8deb-bda89bebf893
DTSTART;VALUE=DATE:20201005
DESCRIPTION:Property ID# 490468\, Locatoin: 247 Cameron Road\, Tauranga (un
 less sold prior)\, Time: 11:00AM
SUMMARY:Auction for 
END:VEVENT
END:VCALENDAR
