BEGIN:VCALENDAR
VERSION:2.0
PRODID:icalendar-ruby
CALSCALE:GREGORIAN
BEGIN:VEVENT
DTSTAMP:20210121T045544Z
UID:83e3ecea-057e-4d93-b983-5f11bd64258b
DTSTART;VALUE=DATE:20201022
DESCRIPTION:Property ID# 490455\, Locatoin: Bayleys Auction Rooms \, Time: 
 4:00PM
SUMMARY:Auction for 
END:VEVENT
END:VCALENDAR
