BEGIN:VCALENDAR
VERSION:2.0
PRODID:icalendar-ruby
CALSCALE:GREGORIAN
BEGIN:VEVENT
DTSTAMP:20260424T154005Z
UID:2441646d-b403-4712-9c08-ca663cc46a33
DTSTART;VALUE=DATE:20200923
DESCRIPTION:Property ID# 488484\, Locatoin: Bayleys Auction Rooms\, Ground 
 Floor\, 247 Cameron Road\, Tauranga\, Time: 1:00PM
SUMMARY:Auction for 
END:VEVENT
END:VCALENDAR
