BEGIN:VCALENDAR
VERSION:2.0
PRODID:icalendar-ruby
CALSCALE:GREGORIAN
BEGIN:VEVENT
DTSTAMP:20210121T050508Z
UID:c00d518d-3a18-4875-a328-b87bbebb3f4a
DTSTART;VALUE=DATE:20200916
DESCRIPTION:Property ID# 488088\, Locatoin: Ray White 13 Domain Road\, Papa
 moa (unless sold prior)\, Time: 1:00PM
SUMMARY:Auction for 
END:VEVENT
END:VCALENDAR
