BEGIN:VCALENDAR
VERSION:2.0
PRODID:icalendar-ruby
CALSCALE:GREGORIAN
BEGIN:VEVENT
DTSTAMP:20210121T045539Z
UID:58e2b7cb-b1db-4b9d-b90d-754487056c9c
DTSTART;VALUE=DATE:20201015
DESCRIPTION:Property ID# 488054\, Locatoin: Bayleys Offices unless sold pri
 or\, Time: 4:00PM
SUMMARY:Auction for 26 Young Road
END:VEVENT
END:VCALENDAR
