BEGIN:VCALENDAR
VERSION:2.0
PRODID:icalendar-ruby
CALSCALE:GREGORIAN
BEGIN:VEVENT
DTSTAMP:20210121T044744Z
UID:89cdb436-c39b-4d01-bdd7-08431804a7bc
DTSTART;VALUE=DATE:20201002
DESCRIPTION:Property ID# 488005\, Locatoin: In Rooms at Tremains Tauranga O
 ffice (Corner of 8th Avenue and Cameron Road) \, Time: 4:00PM
SUMMARY:Auction for 
END:VEVENT
END:VCALENDAR
