BEGIN:VCALENDAR
VERSION:2.0
PRODID:icalendar-ruby
CALSCALE:GREGORIAN
BEGIN:VEVENT
DTSTAMP:20210122T140502Z
UID:b8621a85-999b-4940-869c-d053f48734c7
DTSTART;VALUE=DATE:20200826
DESCRIPTION:Property ID# 486196\, Locatoin: 247 Cameron Road\, Tauranga (un
 less sold prior)\, Time: 12:00PM
SUMMARY:Auction for 
END:VEVENT
END:VCALENDAR
