BEGIN:VCALENDAR
VERSION:2.0
PRODID:icalendar-ruby
CALSCALE:GREGORIAN
BEGIN:VEVENT
DTSTAMP:20210121T050028Z
UID:075b4486-19e4-49e2-9494-ea5f180b8fe1
DTSTART;VALUE=DATE:20200909
DESCRIPTION:Property ID# 485137\, Locatoin: Bayleys Auction Rooms \, Time: 
 1:00PM
SUMMARY:Auction for 
END:VEVENT
END:VCALENDAR
